BEGIN:VCALENDAR
VERSION:2.0
PRODID:-//Naguru Teenage Centre - ECPv6.15.17.1//NONSGML v1.0//EN
CALSCALE:GREGORIAN
METHOD:PUBLISH
X-WR-CALNAME:Naguru Teenage Centre
X-ORIGINAL-URL:https://ntc.ug
X-WR-CALDESC:Events for Naguru Teenage Centre
REFRESH-INTERVAL;VALUE=DURATION:PT1H
X-Robots-Tag:noindex
X-PUBLISHED-TTL:PT1H
BEGIN:VTIMEZONE
TZID:UTC
BEGIN:STANDARD
TZOFFSETFROM:+0000
TZOFFSETTO:+0000
TZNAME:UTC
DTSTART:20240101T000000
END:STANDARD
END:VTIMEZONE
BEGIN:VEVENT
DTSTART;VALUE=DATE:20251118
DTEND;VALUE=DATE:20251119
DTSTAMP:20260422T115453
CREATED:20230111T041119Z
LAST-MODIFIED:20260131T114417Z
UID:262-1763424000-1763510399@ntc.ug
SUMMARY:Annual Youth Meet
DESCRIPTION:Together\, We Draw the Line: Zero Tolerance for Sexual Exploitation & Abuse. The time for change is now. At #YouthMeet25\, we are creating a powerful collective stand against Sexual Exploitation and Abuse (SEA). This is more than a statement; it’s a commitment to action\, accountability\, and a safer future for all. We believe in a world where dignity and respect are non-negotiable. And it starts with us. Your voice isn’t just important—it’s essential. Your power isn’t in the future—it’s now.
URL:https://ntc.ug/event/annual-youth-meet/
LOCATION:Kampala\, Kampala\, Central\, Uganda
CATEGORIES:Seminars
ATTACH;FMTTYPE=image/jpeg:https://ntc.ug/wp-content/uploads/2023/01/G6XOY5wWcAATBT5.jpg
ORGANIZER;CN="Naguru Teenage Centre (NTC)":MAILTO:info@ntc.ug
END:VEVENT
END:VCALENDAR